BEGIN:VCALENDAR
TZID:
BEGIN:VEVENT
CLASS:PUBLIC
CREATED:20260421T125153
DESCRIPTION:<p>Herzlich laden wir Sie zu unserem Workshop <strong>"Existenzgründung zur Zeiten einer Pandemie"</strong> ein. <br />\nNach bereits erfolgreicher Durchführung haben wir für Sie einen weiteren Termin.</p>\n<p>Sie haben an diesem beiden Tagen Gelegenheit beispielhafte und alle weiteren denkbaren Fragen - Ihre Fragen! - rund um eine Existenzgründung in Deutschland beantwortet zu bekommen.</p>\n<p>Unsere Themen fokusieren gezielt Gründer- und Unternehmereignung/ -strategien:</p>\n<div id="mpc_connected_icons-55613e23474b549" class="mpc-connected-icons mpc-transition mpc-inited" data-ci-cols="4" data-target="icon" data-layout="vertical">\n<div class="mpc-connected-icons__item">\n<div class="mpc-icon-column mpc-parent-hover mpc-transition mpc-icon-column--style_3 mpc-align--left mpc-inited" data-id="mpc_icon_column-82613e23474b6e7">\n<div class="mpc-icon-column__content-wrap">\n<div class="mpc-icon-column__content">\n<div class="mpc-icon-column__description mpc-typography--mpc_preset_5 mpc-transition">\n<ul>\n	<li>Businessplan</li>\n	<li>Geschäftsidee</li>\n	<li>Buchführung, Steuern und rechtliche Formalitäten</li>\n	<li>Rechtsformen</li>\n	<li>Grundlagen der Buchhaltung & steuerliche Hintergründe</li>\n	<li>Marketing, Elevator Pitch und Vertriebsstrategien</li>\n	<li>Verkaufstechniken</li>\n	<li>Vertriebspsychologie</li>\n	<li>Charakterkunde, Potentialanaylse</li>\n	<li>Tools & Methodenkompenz: z.B. 4-Ohren-Modell, GFK, SWOT-Analyse, etc ...</li>\n	<li>SMART-Methode</li>\n	<li>LGG-Methode</li>\n	<li>Business Modell Canvas</li>\n	<li>Businessplan: Der erfolgreiche Weg in die SelbstständigkeitFinanzierung:<br />\nInvestions-, Kapitalbedarfs-, Rentabilitäts- und Liquiditätsplan</li>\n	<li>Wirtschaftliches Denken und Handeln/Kennzahlen</li>\n	<li>Kundengewinnung und Preisverhandlungen – fit für den Markteintritt</li>\n	<li>Kommunikations- und Gesprächsführung</li>\n	<li>Kunden binden und finden</li>\n	<li>Website</li>\n	<li>Social Media</li>\n	<li>Sichtbarkeit des UnternehmensGründungszuschuss I und II – mit Sicherheit</li>\n	<li>...u.v.m.</li>\n</ul>\n</div>\n</div>\n</div>\n</div>\n</div>\n<div class="mpc-connected-icons__item">\n<div class="mpc-icon-column mpc-parent-hover mpc-transition mpc-icon-column--style_3 mpc-align--left mpc-inited" data-id="mpc_icon_column-55613e23474b842">\n<div class="mpc-icon-column__content-wrap">\n<div class="mpc-icon-column__content">\n<div class="mpc-icon-column__description mpc-typography--mpc_preset_5 mpc-transition"> </div>\n</div>\n</div>\n</div>\n</div>\n<div class="mpc-connected-icons__item">\n<div class="mpc-icon-column mpc-parent-hover mpc-transition mpc-icon-column--style_3 mpc-align--left mpc-inited" data-id="mpc_icon_column-23613e23474b96f">\n<div class="mpc-icon-column__content-wrap">\n<div class="mpc-icon-column__content">\n<div class="mpc-icon-column__description mpc-typography--mpc_preset_5 mpc-transition"> </div>\n</div>\n</div>\n</div>\n</div>\n<div class="mpc-connected-icons__item">\n<div class="mpc-icon-column mpc-parent-hover mpc-transition mpc-icon-column--style_3 mpc-align--left mpc-inited" data-id="mpc_icon_column-22613e23474bc3e">\n<div class="mpc-icon-column__content-wrap">\n<div class="mpc-icon-column__content">\n<div class="mpc-icon-column__description mpc-typography--mpc_preset_5 mpc-transition"> </div>\n</div>\n</div>\n</div>\n</div>\n</div>
DTEND:20220215T190000Z
DTSTAMP:20260421T125153
DTSTART:20220215T180000
LAST-MODIFIED:20091109T101015
LOCATION:AKEBA Akademie, Seminarort s. Seminarbestätigung, Offenburg, Baden-Württemberg, 77654
SUMMARY;LANGUAGE=en-us:Info-VA: Existenzgründung in Zeiten der Pandemie
BEGIN:VALARM
TRIGGER:-PT1440M
ACTION:DISPLAY
DESCRIPTION:Reminder
END:VALARM
END:VEVENT
END:VCALENDAR
