BEGIN:VCALENDAR
TZID:
BEGIN:VEVENT
CLASS:PUBLIC
CREATED:20260423T062624
DESCRIPTION:<strong>Für alle Interessenten an einer möglichen wirtschaftlichen Selbständigkeit</strong>\n\n<strong>Gefördertes Existenzgründungsseminar in Bad Homburg v.d. Höhe</strong>\n\nDas ExistenzgründerNetzwerk Hochtaunus (die Städte Bad Homburg, Friedrichsdorf und Oberursel) freut sich auch in 2017 die beliebten - geförderten - Intensiv-Existenzgründerseminare anbieten zu können. Für die verantwortliche Durchführung konnte - wie im Vorjahr  - die AKEBA Akademie gewonnen werden.\n<div style="clear: both; margin-top: 10px; margin-bottom: 10px;"></div>\nGedacht ist dieses Seminar für all die Menschen, die im weitesten Sinne Interesse an einer möglichen Selbständigkeit haben, ein eigenes Unternehmen gründen, ein bestehendes Unternehmen übernehmen wollen, oder den Schritt in die Selbständigkeit bereits vollzogen haben und sich fachlich weiterbilden wollen.\n<div style="clear: both; margin-top: 10px; margin-bottom: 10px;"></div>\nInhalt dieses Seminars ist u.a. Businessplan, Unternehmensform, Fördermöglichkeiten, mögliche Gelder der Agentur für Arbeit (Gründungszuschuss/Einstiegsgeld), Kalkulation, Gewinnermittlung und Steuern.\n<div style="clear: both; margin-top: 10px; margin-bottom: 10px;"></div>\nDer langjährig erfahrene Gründungsberater, Dozent und Coach, Frank-Thomas Kraft legt besonderes Augenmerk auf die praktische Anwendbarkeit der vermittelten Inhalte. Auch die Frage der persönlichen Eignung für eine Selbständigkeit wird thematisiert.\n<div style="clear: both; margin-top: 10px; margin-bottom: 20px;"></div>\nDie Teilnahmegebühr beträgt <strong>119,00 €</strong> inklusive Teilnehmerzertifikat und Seminarbegleitende Unterlagen..\n<div style="clear: both; margin-top: 10px; margin-bottom: 10px;"></div>\n<strong>Seminartermin: 23.03.-24.03.2017 | Donnerstag und Freitag | 9.00 - 18.00 Uhr</strong>\n<div style="clear: both; margin-top: 5px; margin-bottom: 5px;"></div>\n<strong>Seminarort: wird noch bekanntgegeben!</strong>\n<div style="clear: both; margin-top: 10px; margin-bottom: 20px;"></div>\n<strong>Bankdaten für Überweisungen</strong>\n<div style="clear: both;"></div>\nSparkasse Offenburg/Ortenau\n<div style="clear: both;"></div>\nBankleitzahl: 664 500 50\n<div style="clear: both;"></div>\nIBAN DE 85 6645 0050 0004 9200 22\n<div style="clear: both;"></div>\nBIC: SOLADES1OFG\n<div style="clear: both;"></div>\nKontoinhaber: Frank-Thomas Kraft\n<div style="clear: both;"></div>\nVerwendungszweck: GeSem. Bad Homburg 03/2017\n<div style="clear: both; margin-top: 10px; margin-bottom: 10px;"></div>\n<em>Das „ExistenzgründerNetzwerk Hochtaunus" ist eine Plattform zur Kommunikation und Kooperation von Gründern und jungen Unternehmern. Initiiertund getragen ist das ExistenzgründerNetzwerkHochtaunus gemeinsam von den Wirtschaftsförderungen der Städte Bad Homburg, Friedrichsdorf und Oberursel.</em>\n<div style="clear: both; margin-top: 10px; margin-bottom: 10px;"></div>
DTEND:20170324T180000Z
DTSTAMP:20260423T062624
DTSTART:20170323T090000
LAST-MODIFIED:20091109T101015
LOCATION:, , Bad Homburg, , 61348
SUMMARY;LANGUAGE=en-us:Copy of Gefördertes Existenzgründungsseminar in Bad Homburg
BEGIN:VALARM
TRIGGER:-PT1440M
ACTION:DISPLAY
DESCRIPTION:Reminder
END:VALARM
END:VEVENT
END:VCALENDAR
