BEGIN:VCALENDAR
TZID:
BEGIN:VEVENT
CLASS:PUBLIC
CREATED:20260422T221639
DESCRIPTION:Herzlich laden wir Sie zu unserem <strong>kostenfreien</strong> Workshop ein. Ziel dieses Gründung-Check-Up ist, dass Sie, d.h. <strong>jeder</strong> von Ihnen, weiß, <strong>was</strong> er <strong>wann</strong> als nächstes <strong>wie</strong> zu erledigen hat. Gleichfültig, wo Sie z. Zt. mit Ihrem Gründungsinteresse stehen. Wir können Ihnen bei der Vielfalt der Fragestellungen einen Kompass mitgeben.\n\nWeitere Informationen zum Workshop:\n\n<a href="https://akeba.de/wp-content/uploads/2018/03/Flyer-1-Workshop-Gründungs-Check-Up_Reutlingen.pdf">Flyer 1 Workshop Gründungs Check Up_Reutlingen</a>\n\n<strong>Sie haben schon eine Idee?</strong>\n\nSie sind sich unschlüssig)\n\nSie haben so viel, zu viel, eventuell Widersprüchliches gehört?\n\nThemen wie z.B. Unternehmereignung, Rechtsform, Businessplan, Finanzierungspläne, Fördermittel, Steuern, Finanzamt etc. etc. können alle behandelt werden.\n\nKonkrete Fragen?\n\nKonkrete Antworten!\n\nvon unabhängigen privaten Selbständigen.
DTEND:20180320T210000Z
DTSTAMP:20260422T221639
DTSTART:20180320T180000
LAST-MODIFIED:20091109T101015
LOCATION:AKEBA Akademie c/o weXelwirken Reutlingen, Burkhardt+Weber-Str. 69/1, Reutlingen, Baden-Württemberg, 72760
SUMMARY;LANGUAGE=en-us:Workshop: Gründungs-Check-Up, Reutlingen 20.03.2018
BEGIN:VALARM
TRIGGER:-PT1440M
ACTION:DISPLAY
DESCRIPTION:Reminder
END:VALARM
END:VEVENT
END:VCALENDAR
