BEGIN:VCALENDAR
TZID:
BEGIN:VEVENT
CLASS:PUBLIC
CREATED:20260422T230512
DESCRIPTION:<strong>Für alle Interessenten an einer möglichen wirtschaftlichen Selbständigkeit</strong>\n\n<strong>Gefördertes Existenzgründungsseminar in Friedrichsdorf 15.-16.02.2018</strong>\n\nDas ExistenzgründerNetzwerk Hochtaunus (Bad Homburg v. d. Höhe, Friedrichsdorf und Oberursel) freut sich auch in 2017 die beliebten - geförderten - Intensiv-Existenzgründerseminare anbieten zu können. Für die verantwortliche Durchführung konnte - wie im Vorjahr  - die AKEBA Akademie Wiesbaden gewonnen werden.\n<div style="clear: both; margin-top: 10px; margin-bottom: 10px;"></div>\nGedacht ist dieses Seminar für all die Menschen, die im weitesten Sinne Interesse an einer möglichen Selbständigkeit haben, ein eigenes Unternehmen gründen, ein bestehendes Unternehmen übernehmen wollen, oder den Schritt in die Selbständigkeit bereits vollzogen haben und sich fachlich weiterbilden wollen.\n<div style="clear: both; margin-top: 10px; margin-bottom: 10px;"></div>\nInhalt dieses Seminars ist u.a. der Businessplan, die Unternehmensform, Fördermöglichkeiten, mögliche Gelder der Agentur für Arbeit (Gründungszuschuss/Einstiegsgeld), Kalkulation, die Gewinnermittlung und Steuern.\n<div style="clear: both; margin-top: 10px; margin-bottom: 10px;"></div>\nDer langjährig erfahrene Gründungsberater, Dozent und Coach, Frank-Thomas Kraft legt besonderes Augenmerk auf die praktische Anwendbarkeit der vermittelten Inhalte. Auch die Frage der persönlichen Eignung für eine Selbständigkeit wird thematisiert.\n\nVertrauliche Einzelgespräche können an den Seminartagen vor und nach dem Seminar vorab mit dem Dozenten vereinbart werden.\n<div style="clear: both; margin-top: 10px; margin-bottom: 20px;"> Die Teilnahmegebühr beträgt <strong>100,00 € + 19 % Mehrwertsteuer</strong> inklusive Teilnehmerzertifikat und Seminarbegleitende Unterlagen.</div>\n<div style="clear: both; margin-top: 10px; margin-bottom: 10px;"><strong>Zusätzlich erhalten Sie, eine kostenfreie Gästekarte (Wert 20 €) zur AUFSCHWUNG-Messe und Kongress, am 28. Februar 2018 in Frankfurt.</strong></div>\n<div style="clear: both; margin-top: 10px; margin-bottom: 10px;"> Diese Eintrittskarte können Sie sich bis 31.12.2017 unter folgendem Link und Code sichern:</div>\n<div style="clear: both; margin-top: 10px; margin-bottom: 10px;"> <a href="http://www.aufschwung-messe.de/online-code">http://www.aufschwung-messe.de/online-code</a></div>\n<div>Code: AKE28022018WSB</div>\n<div></div>\n<strong>Seminartermin: 15.02.-16.02.2018 | Donnerstag und Freitag | 9.00 - 18.00 Uhr</strong>\n<div style="clear: both; margin-top: 5px; margin-bottom: 5px;"></div>\n<strong>Seminarort: Wird noch bekanntgegeben!</strong>\n<div style="clear: both; margin-top: 10px; margin-bottom: 20px;"></div>\n<em>Das „ExistenzgründerNetzwerk Hochtaunus" ist eine Plattform zur Kommunikation und Kooperation von Gründern und jungen Unternehmern. Initiiert und getragen ist das ExistenzgründerNetzwerkHochtaunus gemeinsam von den Wirtschaftsförderungen der Städte Bad Homburg, Friedrichsdorf und Oberursel.</em>\n<div style="clear: both; margin-top: 10px; margin-bottom: 10px;"></div>
DTEND:20180216T180000Z
DTSTAMP:20260422T230512
DTSTART:20180215T090000
LAST-MODIFIED:20091109T101015
LOCATION:Forum Friedrichsdorf, Dreieichstr. 22, Friedrichsdorf, Hessen, 61381
SUMMARY;LANGUAGE=en-us:Gefördertes Existenzgründungsseminar in Friedrichsdorf 15.-16.02.2018
BEGIN:VALARM
TRIGGER:-PT1440M
ACTION:DISPLAY
DESCRIPTION:Reminder
END:VALARM
END:VEVENT
END:VCALENDAR
