BEGIN:VCALENDAR
TZID:
BEGIN:VEVENT
CLASS:PUBLIC
CREATED:20260422T214753
DESCRIPTION:<strong>Für alle Interessenten an einer möglichen wirtschaftlichen Selbständigkeit</strong>\n\n<strong>Gefördertes Existenzgründungsseminar in Oberursel 18.-19.04.2018</strong>\n\nDas ExistenzgründerNetzwerk Hochtaunus (Städte Bad Homburg v.d. Höhe, Friedrichsdorf und Oberursel) freut sich auch in 2018 die beliebten - geförderten - Intensiv-Existenzgründerseminare anbieten zu können. Für die verantwortliche Durchführung konnte - wie im Vorjahr  - die AKEBA Akademie Wiesbaden gewonnen werden.\n<div style="clear: both; margin-top: 10px; margin-bottom: 10px;"></div>\nGedacht ist dieses Seminar für all die Menschen, die im weitesten Sinne Interesse an einer möglichen Selbständigkeit haben, ein eigenes Unternehmen gründen, ein bestehendes Unternehmen übernehmen wollen, oder den Schritt in die Selbständigkeit bereits vollzogen haben und sich fachlich weiterbilden wollen.\n<div style="clear: both; margin-top: 10px; margin-bottom: 10px;"></div>\nInhalt dieses Seminars ist u.a. der Businessplan, die Unternehmensform, Fördermöglichkeiten, mögliche Gelder der Agentur für Arbeit (Gründungszuschuss/Einstiegsgeld), Kalkulation, die Gewinnermittlung und Steuern.\n<div style="clear: both; margin-top: 10px; margin-bottom: 10px;"></div>\nDer langjährig erfahrene Gründungsberater, Dozent und Coach, Frank-Thomas Kraft legt besonderes Augenmerk auf die praktische Anwendbarkeit der vermittelten Inhalte. Auch die Frage der persönlichen Eignung für eine Selbständigkeit wird thematisiert.\n\nVertrauliche Einzelgespräche können an den Seminartagen vor und nach dem Seminar vorab mit dem Dozenten vereinbart werden.\n<div style="clear: both; margin-top: 10px; margin-bottom: 20px;"></div>\nDie Teilnahmegebühr beträgt <strong>100,00 € + 19% Mehrwertsteuer</strong> inklusive Teilnehmerzertifikat und Seminarbegleitende Unterlagen..\n<div style="clear: both; margin-top: 10px; margin-bottom: 10px;"></div>\n<strong>Seminartermin: 18.-19.04.2018| Mittwoch und Donnerstag | 9.00 - 18.00 Uhr</strong>\n<div style="clear: both; margin-top: 5px; margin-bottom: 5px;"></div>\n<strong>Seminarort: Wird noch bekanntgegeben!</strong>\n<div style="clear: both; margin-top: 10px; margin-bottom: 20px;"></div>\n<em>Das „ExistenzgründerNetzwerk Hochtaunus" ist eine Plattform zur Kommunikation und Kooperation von Gründern und jungen Unternehmern. Initiiert und getragen ist das ExistenzgründerNetzwerkHochtaunus gemeinsam von den Wirtschaftsförderungen der Städte Bad Homburg, Friedrichsdorf und Oberursel.</em>\n<div style="clear: both; margin-top: 10px; margin-bottom: 10px;"></div>
DTEND:20180419T180000Z
DTSTAMP:20260422T214753
DTSTART:20180418T090000
LAST-MODIFIED:20091109T101015
LOCATION:, , Oberursel, , 61440
SUMMARY;LANGUAGE=en-us:Gefördertes Existenzgründungsseminar in Oberursel 18.-19.04.2018
BEGIN:VALARM
TRIGGER:-PT1440M
ACTION:DISPLAY
DESCRIPTION:Reminder
END:VALARM
END:VEVENT
END:VCALENDAR
