BEGIN:VCALENDAR
TZID:
BEGIN:VEVENT
CLASS:PUBLIC
CREATED:20260423T010728
DESCRIPTION:Herzlich laden wir Sie zu unserem <strong>kostenfreien</strong> Workshop ein. Ziel dieses Gründung-Check-Up ist, dass Sie, d.h. <strong>jeder</strong> von Ihnen, weiß, <strong>was</strong> er <strong>wann</strong> als nächstes <strong>wie</strong> zu erledigen hat. Gleichfültig, wo Sie z. Zt. mit Ihrem Gründungsinteresse stehen. Wir können Ihnen bei der Vielfalt der Fragestellungen einen Kompass mitgeben.\n\nWeitere Informationen zum Workshop:\n\n<a href="https://akeba.de/wp-content/uploads/2017/10/Flyer-9-Workshop-Gründungs-Check-Up_Offenburg_Klausmann_16.11.2017_10.00-12.00-Uhr.pdf">Flyer 9 Workshop Gründungs Check Up_Offenburg_Klausmann_16.11.2017_10.00-12.00 Uhr</a>\n\n<strong>Sie haben schon eine Idee?</strong>\n\nSie sind sich unschlüssig)\n\nSie haben so viel, zu viel, eventuell Widersprüchliches gehört?\n\nThemen wie z.B. Unternehmereignung, Rechtsform, Businessplan, Finanzierungspläne, Fördermittel, Steuern, Finanzamt etc. etc. können alle behandelt werden.\n\nKonkrete Fragen?\n\nKonkrete Antworten!\n\nvon unabhängigen privaten Selbständigen.
DTEND:20171116T120000Z
DTSTAMP:20260423T010728
DTSTART:20171116T100000
LAST-MODIFIED:20091109T101015
LOCATION:AKEBA Akademie, Wolfgang-Dachstein-Str. 26, Offenburg, Baden-Württemberg, 77654
SUMMARY;LANGUAGE=en-us:Workshop: Gründungs-Check-Up, Offenburg 16.11.2017
BEGIN:VALARM
TRIGGER:-PT1440M
ACTION:DISPLAY
DESCRIPTION:Reminder
END:VALARM
END:VEVENT
END:VCALENDAR
