BEGIN:VCALENDAR
TZID:
BEGIN:VEVENT
CLASS:PUBLIC
CREATED:20260421T224450
DESCRIPTION:<p>Herzlich laden wir Sie zu unserem <strong>kostenfreien</strong> Workshop ein. Sie haben an diesem Abend Gelegenheit beispielhafte und alle weiteren denkbaren Fragen - Ihre Fragen! - rund um eine Existenzgründung in Deutschland beantwortet zu bekommen.</p>\n<p>Weitere Informationen zum Workshop folgen.</p>
DTEND:20201210T200000Z
DTSTAMP:20260421T224450
DTSTART:20201210T170000
LAST-MODIFIED:20091109T101015
LOCATION:AKEBA Akademie - online, , , , 
SUMMARY;LANGUAGE=en-us: Vortrag: Mindset - Mit Deiner Denkweise am Ziel vorbeit! - ONLINE
BEGIN:VALARM
TRIGGER:-PT1440M
ACTION:DISPLAY
DESCRIPTION:Reminder
END:VALARM
END:VEVENT
END:VCALENDAR
