BEGIN:VCALENDAR
TZID:
BEGIN:VEVENT
CLASS:PUBLIC
CREATED:20260421T224608
DESCRIPTION:<p>Herzlich laden wir Sie zu unserem <strong>kostenfreien</strong> Workshop ein. Ziel dieses Gründung-Check-Up ist, dass Sie, d.h. <strong>jeder</strong> von Ihnen, weiß, <strong>was</strong> er <strong>wann</strong> als nächstes <strong>wie</strong> zu erledigen hat. Gleichfültig, wo Sie z. Zt. mit Ihrem Gründungsinteresse stehen. Wir können Ihnen bei der Vielfalt der Fragestellungen einen Kompass mitgeben.</p>\n<p>Sie haben schon eine Idee?</p>\n<p>Sie sind sich unschlüssig)</p>\n<p>Sie haben so viel, zu viel, eventuell Widersprüchliches gehört?</p>\n<p>Themen wie z.B. Unternehmereignung, Rechtsform, Businessplan, Finanzierungspläne, Fördermittel, Steuern, Finanzamt etc. etc. können alle behandelt werden.</p>\n<p>Konkrete Fragen?</p>\n<p>Konkrete Antworten!</p>\n<p>von unabhängigen privaten Selbständigen.</p>
DTEND:20201210T190000Z
DTSTAMP:20260421T224608
DTSTART:20201210T170000
LAST-MODIFIED:20091109T101015
LOCATION:AKEBA Akademie - online, , , , 64546
SUMMARY;LANGUAGE=en-us:Gründungs-Check-Up
BEGIN:VALARM
TRIGGER:-PT1440M
ACTION:DISPLAY
DESCRIPTION:Reminder
END:VALARM
END:VEVENT
END:VCALENDAR
