BEGIN:VCALENDAR
TZID:
BEGIN:VEVENT
CLASS:PUBLIC
CREATED:20260423T011001
DESCRIPTION:Wir alle werden älter. Erfolgreiche Firmeninhaber werden älter. Und die Nachfolge ist oft nicht gesichert. Jüngere gut ausgebildete Menschen suchen gleichzeitig nach einer beruflichen Perspektive. Es liegt nicht im Interesse Deutschlands diese Unternehmen sterben zu lassen. Wir laden Sie herzlich zu unserem <strong>kostenfreien</strong> Workshop mit diesem spannenden Thema ein.\n\nWeitere Informationen zum Workshop:\n\n<strong><a href="https://akeba.de/wp-content/uploads/2017/10/Flyer-7-Unternehmensübernahme-MF-WD_17.11.2017_15-16-Uhr.pdf">Flyer 7 Unternehmensübernahme MF-WD_17.11.2017_15-16 Uhr</a></strong>\n\nWo finde ich ein geeignetes Unternehmen?\n\nWas für Voraussetzungen brauche ich?\n\nKaufen oder Pachten?\n\nDiverse Verträge.\n\nUnternehmensbewertung.\n\nWie hafte ich?\n\nChancen - Risiken.\n\nDie Umsetzung der Unternehmensübernahme.\n\nUnterstützung und Finanzierung.
DTEND:20171117T160000Z
DTSTAMP:20260423T011001
DTSTART:20171117T150000
LAST-MODIFIED:20091109T101015
LOCATION:AKEBA Akademie, Flughafenstr. 40, Mörfelden-Walldorf, Hessen, 64546
SUMMARY;LANGUAGE=en-us:Workshop: Unternehmensübernahme, Mörfelden-Walldorf 17.11.2017
BEGIN:VALARM
TRIGGER:-PT1440M
ACTION:DISPLAY
DESCRIPTION:Reminder
END:VALARM
END:VEVENT
END:VCALENDAR
