BEGIN:VCALENDAR
TZID:
BEGIN:VEVENT
CLASS:PUBLIC
CREATED:20260423T011308
DESCRIPTION:Wir laden Sie zu unserem <strong>kostenfreien</strong> Workshop mit dem immer aktueller werdenden Thema ein.\n\nWeitere Informationen zum Workshop:\n\n<strong><a href="https://akeba.de/wp-content/uploads/2017/10/Flyer-5-Workshop-Leichteres-Gründen-als-Migrant_17.11.2017_WI_9-10-Uhr.pdf">Flyer 5 Workshop Leichteres Gründen als Migrant_17.11.2017_WI_9-10 Uhr</a></strong>\n\nSelbständigkeit in Deutschland.\n\nBin ich Migrant?\n\nWas ist sinnvoll zu beachten?\n\nWas muss ich berücksichtigen?\n\nWorauf kann ich verzichten?\n\nGibt es spezielle Förderungen?\n\nHerausforderungen\n\nLösungen\n\nInformation\n\nFormalitäten\n\nGesetze
DTEND:20171117T100000Z
DTSTAMP:20260423T011308
DTSTART:20171117T090000
LAST-MODIFIED:20091109T101015
LOCATION:AKEBA Akademie, Moritzstrasse 8, Wiesbaden, Hessen, 65185
SUMMARY;LANGUAGE=en-us:Workshop: Leichteres Gründen als Migrant, Wiesbaden 17.11.2017
BEGIN:VALARM
TRIGGER:-PT1440M
ACTION:DISPLAY
DESCRIPTION:Reminder
END:VALARM
END:VEVENT
END:VCALENDAR
