BEGIN:VCALENDAR
TZID:
BEGIN:VEVENT
CLASS:PUBLIC
CREATED:20260423T010730
DESCRIPTION:Herzlich laden wir Sie zu unserem <strong>kostenfreien</strong> Workshop ein. Sie haben an diesem Abend Gelegenheit beispielhafte und alle weiteren denkbaren Fragen - Ihre Fragen! - rund um eine Existenzgründung in Deutschland beantwortet zu bekommen.\n\nWeitere Informationen zum Workshop:\n\n<a href="https://akeba.de/wp-content/uploads/2017/10/Flyer-4-Workshop-Existenzgründung_WI_16.11.2017_18-21-Uhr.pdf"><strong>Flyer 4 Workshop Existenzgründung_WI_16.11.2017_18-21 Uhr</strong></a>\n\nThemen:\n<ul>\n 	<li>Kann jedermann gründen?</li>\n 	<li>Was bedeutet eine Existenzgründung?</li>\n 	<li>Reiner Spaß?</li>\n 	<li>Zusatzverdienst?</li>\n 	<li>Muss der/die Gründer/in Voraussetzungen erfüllen?</li>\n 	<li>Ist eine Vorbereitung der Gründung sinnvoll?</li>\n 	<li>Kann ich Unterstützung bekommen?</li>\n 	<li>Wer sind meine Ansprechpartner?</li>\n 	<li>Habe ich mit Behörden zu tun? Mit welchen?</li>\n 	<li>Ist eine Gründung leicht?</li>\n 	<li>Was ist ein Businessplan?</li>\n 	<li>Gibt es Fördermittel für meine Gründung?</li>\n 	<li>Was erhoffe ich mir von einer Existenzgründung?</li>\n 	<li>.....</li>\n</ul>
DTEND:20171116T210000Z
DTSTAMP:20260423T010730
DTSTART:20171116T180000
LAST-MODIFIED:20091109T101015
LOCATION:AKEBA Akademie, Moritzstrasse 8, Wiesbaden, Hessen, 65185
SUMMARY;LANGUAGE=en-us:Workshop: Existenzgründung,  Wiesbaden 16.11.2017
BEGIN:VALARM
TRIGGER:-PT1440M
ACTION:DISPLAY
DESCRIPTION:Reminder
END:VALARM
END:VEVENT
END:VCALENDAR
