BEGIN:VCALENDAR
TZID:
BEGIN:VEVENT
CLASS:PUBLIC
CREATED:20260423T011036
DESCRIPTION:Wir laden Sie recht herzlich zu unserem <strong>kostenfreien</strong> Vortrag mit Diskussion zu dem Alles entscheidenden Thema der Rentabilität ein.\n\nWeitere Informationen zum Workshop:\n\n<a href="https://akeba.de/wp-content/uploads/2017/10/Flyer-3-Workshop-Kann-ich-von-meiner-Selbstständigkeit-wirklich-leben_WI_16.11.2017-16-18-Uhr.pdf">Flyer 3 Workshop Kann ich von meiner Selbstständigkeit wirklich leben_WI_16.11.2017 16-18 Uhr</a>\n\nBei uns erfahren Sie, ob und ab wann Sie von Ihrer Selbständigkeit - vollumfänglich - leben können.\n\nPraxiswissen von Praktikern, die seit vielen Jahren ihr Leben als Selbständige durch ihre Selbständigkeit finanzieren.\n\nRealistisch! Nichts wird verschwiegen. ALLES wird erläutert.
DTEND:20171116T180000Z
DTSTAMP:20260423T011036
DTSTART:20171116T160000
LAST-MODIFIED:20091109T101015
LOCATION:AKEBA Akademie, Moritzstrasse 8, Wiesbaden, Hessen, 65185
SUMMARY;LANGUAGE=en-us:Workshop: Kann ich von meiner geplanten Selbständigkeit tatsächlich leben? Wiesbaden 16.11.2017
BEGIN:VALARM
TRIGGER:-PT1440M
ACTION:DISPLAY
DESCRIPTION:Reminder
END:VALARM
END:VEVENT
END:VCALENDAR
