BEGIN:VCALENDAR
TZID:
BEGIN:VEVENT
CLASS:PUBLIC
CREATED:20260423T050502
DESCRIPTION:Was ist Inhalt dieses Gründungs-Check-Up´s\n\nAusgehend von unserer mehr als 14jährigen Erfahrung mit Gründern und in der deutschen Gründerszene wollen wir mit Ihnen Ihre ganz aktuellen Fragen und Themen bearbeiten. Ziel ist, dass Sie, d.h. jeder Einzelne von Ihnen, nach diesem Crash-Kurs weiß, was er wann als nächstes wie zu erledigen hat. Gleichgültig, wo Sie z.Zt. mit Ihrem Gründungsinteresse stehen, die Aspekte sind extrem vielschichtig. Wir helfen gerne weiter.\n\nAnmeldung erfolgt durch Ihre Registrierung!\n\nAlternative Registrierung per Email über info@akeba.de\n\nDiese Veranstaltung ist ein kostenfreier Service der AKEBA Akademie!\n\nHerzlichst Ihr AKEBA Team!
DTEND:20170508T210000Z
DTSTAMP:20260423T050502
DTSTART:20170508T180000
LAST-MODIFIED:20091109T101015
LOCATION:Offenburg, Wolfgang-Dachstein-Str. 26, Offenburg, Baden-Württemberg, 77654
SUMMARY;LANGUAGE=en-us:Gründungs-Check-Up! Offenburg 08.05.2017
BEGIN:VALARM
TRIGGER:-PT1440M
ACTION:DISPLAY
DESCRIPTION:Reminder
END:VALARM
END:VEVENT
END:VCALENDAR
