BEGIN:VCALENDAR
TZID:
BEGIN:VEVENT
CLASS:PUBLIC
CREATED:20260423T054641
DESCRIPTION:<span style="font-family: arial, helvetica, sans-serif;"><strong>Für alle Interessenten an einer möglichen wirtschaftlichen Selbständigkeit</strong></span>\n\n<span style="font-family: arial, helvetica, sans-serif;"><strong>Gefördertes Existenzgründungsseminar in Friedrichsdorf</strong></span>\n\n<span style="font-family: arial, helvetica, sans-serif;">Das ExistenzgründerNetzwerk Hochtaunus (die Städte Bad Homburg, Friedrichsdorf und Oberursel) freut sich auch in 2017 die beliebten - geförderten - Intensiv-Existenzgründerseminare anbieten zu können. Für die verantwortliche Durchführung konnte - wie im Vorjahr  - die AKEBA Akademie gewonnen werden.</span>\n<div style="clear: both; margin-top: 10px; margin-bottom: 10px;"><span style="font-family: arial, helvetica, sans-serif;"> </span></div>\n<span style="font-family: arial, helvetica, sans-serif;">Gedacht ist dieses Seminar für all die Menschen, die im weitesten Sinne Interesse an einer möglichen Selbständigkeit haben, ein eigenes Unternehmen gründen, ein bestehendes Unternehmen übernehmen wollen, oder den Schritt in die Selbständigkeit bereits vollzogen haben und sich fachlich weiterbilden wollen.</span>\n<div style="clear: both; margin-top: 10px; margin-bottom: 10px;"><span style="font-family: arial, helvetica, sans-serif;"> </span></div>\n<span style="font-family: arial, helvetica, sans-serif;">Inhalt dieses Seminars ist u.a. Businessplan, Unternehmensform, Fördermöglichkeiten, mögliche Gelder der Agentur für Arbeit (Gründungszuschuss/Einstiegsgeld), Kalkulation, Gewinnermittlung und Steuern.</span>\n<div style="clear: both; margin-top: 10px; margin-bottom: 10px;"><span style="font-family: arial, helvetica, sans-serif;"> </span></div>\n<span style="font-family: arial, helvetica, sans-serif;">Der langjährig erfahrene Gründungsberater, Dozent und Coach, Frank-Thomas Kraft legt besonderes Augenmerk auf die praktische Anwendbarkeit der vermittelten Inhalte. Auch die Frage der persönlichen Eignung für eine Selbständigkeit wird thematisiert.</span>\n<div style="clear: both; margin-top: 10px; margin-bottom: 20px;"><span style="font-family: arial, helvetica, sans-serif;"> </span></div>\n<span style="font-family: arial, helvetica, sans-serif;">Die Teilnahmegebühr beträgt <strong>119,00 €</strong> inklusive Teilnehmerzertifikat und Seminarbegleitende Unterlagen..</span>\n<div style="clear: both; margin-top: 10px; margin-bottom: 10px;"><span style="font-family: arial, helvetica, sans-serif;"> </span></div>\n<span style="font-family: arial, helvetica, sans-serif;"><strong>Seminartermin: 27.04.-28.04.2017 | Donnerstag und Freitag | 9.00 - 18.00 Uhr</strong></span>\n<div style="clear: both; margin-top: 5px; margin-bottom: 5px;"><span style="font-family: arial, helvetica, sans-serif;"> </span></div>\n<span style="font-family: arial, helvetica, sans-serif;"><strong>Seminarort: wird noch bekanntgegeben!</strong></span>\n<div style="clear: both; margin-top: 10px; margin-bottom: 20px;"><span style="font-family: arial, helvetica, sans-serif;"> </span></div>\n<span style="font-family: arial, helvetica, sans-serif;"><strong>Bankdaten für Überweisungen</strong></span>\n<div style="clear: both;"><span style="font-family: arial, helvetica, sans-serif;"> </span></div>\n<span style="font-family: arial, helvetica, sans-serif;">Sparkasse Offenburg/Ortenau</span>\n<div style="clear: both;"><span style="font-family: arial, helvetica, sans-serif;"> </span></div>\n<span style="font-family: arial, helvetica, sans-serif;">Bankleitzahl: 664 500 50</span>\n<div style="clear: both;"><span style="font-family: arial, helvetica, sans-serif;"> </span></div>\n<span style="font-family: arial, helvetica, sans-serif;">IBAN DE 85 6645 0050 0004 9200 22</span>\n<div style="clear: both;"><span style="font-family: arial, helvetica, sans-serif;"> </span></div>\n<span style="font-family: arial, helvetica, sans-serif;">BIC: SOLADES1OFG</span>\n<div style="clear: both;"><span style="font-family: arial, helvetica, sans-serif;"> </span></div>\n<span style="font-family: arial, helvetica, sans-serif;">Kontoinhaber: Frank-Thomas Kraft</span>\n<div style="clear: both;"><span style="font-family: arial, helvetica, sans-serif;"> </span></div>\n<span style="font-family: arial, helvetica, sans-serif;">Verwendungszweck: GeSem. Friedrichsdorf 04/2017</span>\n<div style="clear: both; margin-top: 10px; margin-bottom: 10px;"><span style="font-family: arial, helvetica, sans-serif;"> </span></div>\n<span style="font-family: arial, helvetica, sans-serif;"><em>Das „ExistenzgründerNetzwerk Hochtaunus" ist eine Plattform zur Kommunikation und Kooperation von Gründern und jungen Unternehmern. Initiiertund getragen ist das ExistenzgründerNetzwerkHochtaunus gemeinsam von den Wirtschaftsförderungen der Städte Bad Homburg, Friedrichsdorf und Oberursel.</em></span>\n<div style="clear: both; margin-top: 10px; margin-bottom: 10px;"></div>
DTEND:20170428T180000Z
DTSTAMP:20260423T054641
DTSTART:20170427T090000
LAST-MODIFIED:20091109T101015
LOCATION:, , Friedrichsdorf, , 61381
SUMMARY;LANGUAGE=en-us:Gefördertes Existenzgründungsseminar in Friedrichsdorf
BEGIN:VALARM
TRIGGER:-PT1440M
ACTION:DISPLAY
DESCRIPTION:Reminder
END:VALARM
END:VEVENT
END:VCALENDAR
