BEGIN:VCALENDAR
TZID:
BEGIN:VEVENT
CLASS:PUBLIC
CREATED:20260423T061731
DESCRIPTION:<strong>Dauer: 3 Stunden\nPreis: Kostenfrei</strong>\n\n<strong>Was ist Inhalt dieser sog. Infoveranstaltungen?</strong>\nAusgehend von unserer mehr als 14 jährigen Erfahrung mit Gründern und in der deutschen Gründerszene wollen wir mit Ihnen Ihre ganz aktuellen Fragen und Themen bearbeiten. Ziel ist, dass Sie, d.h. jeder Einzelne von Ihnen, nach diesem Crash-Kurs weiß, was er wann als nächstes wie zu erledigen hat. Gleichgültig, wo Sie z.Zt. mit Ihrem Gründungsinteresse stehen, die Aspekte sind extrem vielschichtig und Sie können nie genug an praxistauglichen Informationen mitnehmen.\n\n<strong>Alternative per Email über <a href="mailto:info@akeba.de">info@akeba.de</a> oder telefonisch unter <a href="tel:017665373511">01766/5373511</a></strong>
DTEND:20170306T210000Z
DTSTAMP:20260423T061731
DTSTART:20170306T180000
LAST-MODIFIED:20091109T101015
LOCATION:Karlsruhe, , Karlsruhe, , 76131
SUMMARY;LANGUAGE=en-us:Gründungs-Check-Up! Karlsruhe
BEGIN:VALARM
TRIGGER:-PT1440M
ACTION:DISPLAY
DESCRIPTION:Reminder
END:VALARM
END:VEVENT
END:VCALENDAR
