BEGIN:VCALENDAR
TZID:
BEGIN:VEVENT
CLASS:PUBLIC
CREATED:20260421T124420
DESCRIPTION:<div class="pip title-pip font-font1 title-pip-3 not-activated" data-automation-hook="title-pip" data-pip-type="title" data-tower-index="9-0-0-1" data-tower-id="ad3149f8ccf545b0949307eae5d314d8-0-0-1" data-pip-uid="4b58a6a180344c71843503413ae19375" data-pip-display-name="Titel">\n<div class="rich-text-content font-fontSize3 font-font1">\n<p>Kopfstand-Methode</p>\n</div>\n</div>\n<div class="pip paragraph-pip font-font2 not-activated" data-automation-hook="paragraph-pip" data-pip-type="paragraph" data-tower-index="9-0-0-2" data-tower-id="ad3149f8ccf545b0949307eae5d314d8-0-0-2" data-pip-uid="974365717f1d45a3b074c91951f7f892" data-pip-display-name="Abschnitt">\n<div class="rich-text-content font-fontSize3">\n<p>Jede Mensch hat seine Blickwinkel, sein eigenes Universium und wundert sich vielleicht, warum er ständig aneckt, missverständen wird oder sein Ziel nicht erreicht. Wir nehmen Ihr Mindset auf den Prüfstand und freuen sich sich darauf sich besser kennenzulernen und selbstbewusster durch das Leben zu gehen.</p>\n</div>\n</div>
DTEND:20220219T180000Z
DTSTAMP:20260421T124420
DTSTART:20220219T090000
LAST-MODIFIED:20091109T101015
LOCATION:AKEBA Akademie, Altkönigstr. 12, Hochheim am Main , , 65239
SUMMARY;LANGUAGE=en-us:Workshop: Mindset - Mit Deiner Denkweise am Ziel vorbei
BEGIN:VALARM
TRIGGER:-PT1440M
ACTION:DISPLAY
DESCRIPTION:Reminder
END:VALARM
END:VEVENT
END:VCALENDAR
