BEGIN:VCALENDAR
TZID:
BEGIN:VEVENT
CLASS:PUBLIC
CREATED:20260421T112717
DESCRIPTION:<p><strong>Gefördertes Existenzgründungsseminar </strong></p>\n<p>Das ExistenzgründerNetzwerk Hochtaunus (die Städte Bad Homburg, Friedrichsdorf und Oberursel) freut sich auch in diesem Jahr die beliebten - geförderten - Intensiv-Existenzgründerseminare anbieten zu können. Für die verantwortliche Durchführung konnte - wie im Vorjahr - die AKEBA Akademie gewonnen werden.</p>\n<p>Gedacht ist dieses Seminar für all die Menschen, die im weitesten Sinne Interesse an einer möglichen Selbständigkeit haben, ein eigenes Unternehmen gründen, ein bestehendes Unternehmen übernehmen wollen, oder den Schritt in die Selbständigkeit bereits vollzogen haben und sich fachlich weiterbilden wollen.</p>\n<p>Inhalt dieses Seminars ist u.a. Businessplan, Unternehmensform, Fördermöglichkeiten, mögliche Gelder der Agentur für Arbeit (Gründungszuschuss/Einstiegsgeld), Kalkulation, Gewinnermittlung und Steuern.</p>\n<p>Der langjährig erfahrene Gründungsberater, Dozent und Coach, Frank-Thomas Kraft legt besonderes Augenmerk auf die praktische Anwendbarkeit der vermittelten Inhalte. Auch die Frage der persönlichen Eignung für eine Selbständigkeit wird thematisiert, ebenso wie aktuelle Themen und Marketing & Vertrieb.</p>\n<p>Die <em>Teilnahmegebühr beträgt 115,00 €</em> zuzügl. MwSt. <strong>inklusive Teilnehmerzertifikat</strong> und <strong>Seminar begleitende Unterlagen</strong>.</p>\n<p><strong>Seminarort: Bad Homburg</strong></p>\n<p><strong> </strong></p>\n<p>Weitere Infos Unter: <a href="https://www.facebook.com/pg/akeba.akademie/events/?ref=page_internal">https://www.facebook.com/events/2109002162469466/</a></p>
DTEND:20220405T180000Z
DTSTAMP:20260421T112717
DTSTART:20220404T090000
LAST-MODIFIED:20091109T101015
LOCATION:, , Bad Hombrug, , 
SUMMARY;LANGUAGE=en-us:Gefördertes Existenzgründungsseminar -  PRÄSENZ
BEGIN:VALARM
TRIGGER:-PT1440M
ACTION:DISPLAY
DESCRIPTION:Reminder
END:VALARM
END:VEVENT
END:VCALENDAR
