BEGIN:VCALENDAR
TZID:
BEGIN:VEVENT
CLASS:PUBLIC
CREATED:20260423T042217
DESCRIPTION:<strong>Dauer: ca. 3 Stunden</strong>\n\n<strong>Beginn: 18:00 Uhr</strong>\n\n<strong>Was ist Inhalt dieses Gründungs-Check-Up´s</strong>\n\nAusgehend von unserer mehr als 14jährigen Erfahrung mit Gründern und in der deutschen Gründerszene wollen wir mit Ihnen Ihre ganz aktuellen Fragen und Themen bearbeiten. Ziel ist, dass Sie, d.h.<strong> jeder</strong> Einzelne von Ihnen, nach diesem Crash-Kurs weiß, <strong>was</strong> er <strong>wann</strong> als nächstes <strong>wie</strong> zu erledigen hat. Gleichgültig, wo Sie z.Zt. mit Ihrem Gründungsinteresse stehen, die Aspekte sind extrem vielschichtig. Wir helfen gerne weiter.\n\n<strong>Anmeldung erfolgt durch Ihre Registrierung!</strong>\n\n<strong>Alternative Registrierung per Email über <a href="mailto:info@akeba.de">info@akeba.de</a> oder telefonisch unter <a href="tel:017665373511">0172/6074655</a></strong>\n\n<strong>Diese Veranstaltung ist ein kostenfreier Service der AKEBA Akademie!</strong>
DTEND:20170613T210000Z
DTSTAMP:20260423T042217
DTSTART:20170613T180000
LAST-MODIFIED:20091109T101015
LOCATION:Offenburg, Wolfgang-Dachstein-Str. 26, Offenburg, Baden-Württemberg, 77654
SUMMARY;LANGUAGE=en-us:Gründungs-Check-Up! Offenburg 13.06.2017
BEGIN:VALARM
TRIGGER:-PT1440M
ACTION:DISPLAY
DESCRIPTION:Reminder
END:VALARM
END:VEVENT
END:VCALENDAR
